BEGIN:VCALENDAR
VERSION:2.0
PRODID:-//AudioTheme 2.3.7
BEGIN:VEVENT
UID:http://www.lukesgrooveband.ch/?post_type=audiotheme_gig&#038;p=216
URL:http://www.lukesgrooveband.ch/shows/the-taperets-lukes-groove-band/
DTSTART;TZID=GMT:20160227T203000
SUMMARY:The Taperets & Luke's Groove Band
DESCRIPTION:ROCK\, BLUES\, SOUL\, HITS VON FRÜHER BIS HEUTE ...    Freier Eintritt!
LOCATION:Dukes\, Sihlbrugg 3  \, Hirzel-Sihlbrugg\, Zurich\, Switzerland\, 8816
END:VEVENT
END:VCALENDAR
