BEGIN:VCALENDAR
VERSION:2.0
PRODID:-//AudioTheme 2.3.7
BEGIN:VEVENT
UID:http://www.lukesgrooveband.ch/?post_type=audiotheme_gig&#038;p=401
URL:http://www.lukesgrooveband.ch/shows/silvester-gala-2/
DTSTART;TZID=GMT:20181231T170000
SUMMARY:Silvester Gala
DESCRIPTION:Silvester Gala
LOCATION:Bloom Bar / Park Hotel Winterthur\, Stadthausstrasse 4\, Winterthur\, \, Switzerland\, 8400
END:VEVENT
END:VCALENDAR
