BEGIN:VCALENDAR
VERSION:2.0
PRODID:-//AudioTheme 2.3.7
BEGIN:VEVENT
UID:urn:uuid:d4c45da6-edb6-4074-866a-a94e49057b3c
URL:http://www.lukesgrooveband.ch/shows/jam-session-44/
DTSTART;TZID=GMT:20231214T160000
SUMMARY:Jam Session
DESCRIPTION:Jam Session
LOCATION:Bloom Bar / Park Hotel Winterthur\, Stadthausstrasse 4\, Winterthur\, \, Switzerland\, 8400
END:VEVENT
END:VCALENDAR
