BEGIN:VCALENDAR
VERSION:2.0
PRODID:-//AudioTheme 2.3.7
BEGIN:VEVENT
UID:http://www.lukesgrooveband.ch/?post_type=audiotheme_gig&#038;p=200
URL:http://www.lukesgrooveband.ch/shows/gig-200/
DTSTART;TZID=GMT:20151231T170000
SUMMARY:Silvester im Restaurant Taggenberg
DESCRIPTION:Silvester Gig bis Mitternacht. Leichte Hintergrundmusik in der Stielrichtung Jazz\, Blues\, Funk\, Latin und Soul. 
LOCATION:Restaurant Taggenberg\, Taggenbergstrasse 79\, Winterthur\, Zurich\, Switzerland\, 8400
END:VEVENT
END:VCALENDAR
